BEGIN:VCALENDAR
VERSION:2.0
PRODID:-//eventon.com NONSGML v1.0//EN
CALSCALE:GREGORIAN
METHOD:PUBLISH
BEGIN:VEVENT
UID:69eb7b8d8558e
DTSTAMP:20260424T161749
DTSTART:20261007T201500Z
DTEND:20261007T235900Z
TZID:Pacific/Midway
LOCATION:
SUMMARY:Comedia ZAP: «SchachSinn»
DESCRIPTION:«Manche Umwege malen die schönsten Spuren ins Leben». Mit einem Augenzwinkern lässt Comedia Zap das Publikum eintauchen in eine Geschichte die von Schachmatt-Situationen\,  kuriosen Umwegen und der leisen Kraft\,  wieder aufzustehen handelt – berührend\,  schräg und voller Poesie. &nbsp; Geschichte Milo Sasso\,  ein begabter Bildhauer\,  steht Schachmatt im Spiel des[..]\nhttps://kurhausberguen.ch/events/comedia-zap-schachsinn?lang=en
URL:https://kurhausberguen.ch/events/comedia-zap-schachsinn?lang=en
END:VEVENT
END:VCALENDAR