BEGIN:VCALENDAR
VERSION:2.0
PRODID:-//eventon.com NONSGML v1.0//EN
CALSCALE:GREGORIAN
METHOD:PUBLISH
BEGIN:VEVENT
UID:69eb7b032071f
DTSTAMP:20260424T161531
DTSTART:20260805T201500Z
DTEND:20260805T235900Z
TZID:Pacific/Midway
LOCATION:
SUMMARY:Mir Zwe: «Life is live - Bergün»
DESCRIPTION:Die beiden Emmentaler Komiker servieren ein «best of» aus 30 Jahren «mir zwe». «Robykoch» der Sprachgesteuerte Kochroboter zaubert ein einfaches Menu. Das Publikum wird in die Magie des Lichtes eingeweiht und Rocky ein Waschbärähnliches Wesen wird im Nu verzaubert. Der alte Vögeli besucht wieder einmal seinen Landarzt und vielleicht besuchen[..]\nhttps://kurhausberguen.ch/events/mir-zwe?lang=en
URL:https://kurhausberguen.ch/events/mir-zwe?lang=en
END:VEVENT
END:VCALENDAR