BEGIN:VCALENDAR
VERSION:2.0
PRODID:-//eventon.com NONSGML v1.0//EN
CALSCALE:GREGORIAN
METHOD:PUBLISH
BEGIN:VEVENT
UID:69eb6607c61d8
DTSTAMP:20260424T144559
DTSTART:20260803T170000Z
DTEND:20260803T235900Z
TZID:Pacific/Midway
LOCATION:
SUMMARY:Jörg Bohn: «Bruno der Sandkastenmann»
DESCRIPTION:Dieser Sandkastenmann ist einfach Spitze Bruno\,  der städtische Angestellte muss auf den Spielplätzen für Ordnung und Sauberkeit sorgen und soll demnächst befördert werden. Angesteckt von der Spielfreude der Kinder beginnt er mit ihnen und den in den Sandkästen liegengebliebenen Spielsachen ein paar Zirkusnummern einzuüben. Aus dem Putzwagen wird &#8211; zum[..]\nhttps://kurhausberguen.ch/events/joerg-bohn-sandkastenmann?lang=en
URL:https://kurhausberguen.ch/events/joerg-bohn-sandkastenmann?lang=en
END:VEVENT
END:VCALENDAR