BEGIN:VCALENDAR
VERSION:2.0
PRODID:-//eventon.com NONSGML v1.0//EN
CALSCALE:GREGORIAN
METHOD:PUBLISH
BEGIN:VEVENT
UID:69eb65e9ea60a
DTSTAMP:20260424T144529
DTSTART:20260720T170000Z
DTEND:20260720T235900Z
TZID:Pacific/Midway
LOCATION:
SUMMARY:Figurentheater Lupine: «Frau Meier\,  die Amsel»
DESCRIPTION:Frau Meier hat jeden Tag viele Sorgen. Sei es mit der Gugelhopf\,  mit dem Gemüse im Garten oder mit den Haaren auf dem Kopf von Herrn Meier\,  überall lauern Gefahren. Herr Meier kocht ihr dann immer einen Pfefferminztee\,  um sie zu beruhigen. Eines Morgens aber hat Frau Meier allen Grund[..]\nhttps://kurhausberguen.ch/events/figurentheater-lupine-frau-meier?lang=en
URL:https://kurhausberguen.ch/events/figurentheater-lupine-frau-meier?lang=en
END:VEVENT
END:VCALENDAR