BEGIN:VCALENDAR
VERSION:2.0
PRODID:-//eventon.com NONSGML v1.0//EN
CALSCALE:GREGORIAN
METHOD:PUBLISH
BEGIN:VEVENT
UID:69eb6641c33bd
DTSTAMP:20260424T144657
DTSTART:20260612
DTEND:20260615
TZID:Pacific/Midway
LOCATION:
SUMMARY:Bergfahrt Festival: «früher war besser - pi bot egl sto megler»
DESCRIPTION:Ein Kultur-Highlight schlechthin im Kalender: das biennale Bergfahrt Festival! Es werden die «Kulturstiefel» geschnürt und in die Hände gespuckt fürs nächste Bergfahrt Festival unter dem Motto «Früher war besser». Mit dem diesjährigen Programm wird Bergün/Bravuogn einmal mehr verzaubert. Von Freitag bis Sonntag wird geboten heisse Literatur\,  schweisstreibende Konzerte\,  berührende Filme\, [..]\nhttps://kurhausberguen.ch/events/bergfahrt-festival-2026?lang=en
URL:https://kurhausberguen.ch/events/bergfahrt-festival-2026?lang=en
END:VEVENT
END:VCALENDAR