BEGIN:VCALENDAR
VERSION:2.0
PRODID:-//eventon.com NONSGML v1.0//EN
CALSCALE:GREGORIAN
METHOD:PUBLISH
BEGIN:VEVENT
UID:69eb7b8a0844b
DTSTAMP:20260424T161746
DTSTART:20260624T201500Z
DTEND:20260624T235900Z
TZID:Pacific/Midway
LOCATION:
SUMMARY:Volker Ranisch: «Die Büste des Kaisers»
DESCRIPTION:«Die kurioseste Geschichte der Donaumonarchie» Der Ausnahmekünstler Volker Ranisch beehrt das K(ult)urhaus zum wiederholten Male. Mitgebracht hat er die tragikomische Geschichte eines Grafen\,  der am Mythos der Monarchie festhält\,  während Krieg und Moderne seine Welt zerstören und die Heimat zerfällt. Franz Xaver Morstin\,  aus einem altem polnischen Adelsgeschlecht stammend mit[..]\nhttps://kurhausberguen.ch/events/volker-ranisch-dbdk?lang=en
URL:https://kurhausberguen.ch/events/volker-ranisch-dbdk?lang=en
END:VEVENT
END:VCALENDAR