BEGIN:VCALENDAR
VERSION:2.0
PRODID:-//eventon.com NONSGML v1.0//EN
CALSCALE:GREGORIAN
METHOD:PUBLISH
BEGIN:VEVENT
UID:69eb662d57b4c
DTSTAMP:20260424T144637
DTSTART:20260513T170000Z
DTEND:20260513T235900Z
TZID:Pacific/Midway
LOCATION:
SUMMARY:Quartettin+: «Dreiklang der Zeit»
DESCRIPTION:Das Ensemble Quartettin mit Cristina Vital (Querflöte)\,  Laura Zangger (Violine)\,  Ruth Michael (Viola) und Anita Jehli (Violoncello) fand sich 2020 zu einer Konzertreihe zusammen. Seit damals gehören die Auffahrtskonzerte mit jeweils 4 Auftritten in ganz Graubünden zum festen Bestandteil der Agenda der vier Musikerinnen. Im Jahr 2025 ist Rebecca Würth[..]\nhttps://kurhausberguen.ch/events/quartettin-26?lang=en
URL:https://kurhausberguen.ch/events/quartettin-26?lang=en
END:VEVENT
END:VCALENDAR