BEGIN:VCALENDAR
VERSION:2.0
PRODID:-//eventon.com NONSGML v1.0//EN
CALSCALE:GREGORIAN
METHOD:PUBLISH
BEGIN:VEVENT
UID:69e5b849bfa44
DTSTAMP:20260420T072321
DTSTART:20260531T140000Z
DTEND:20260602T110000Z
TZID:Europe/Zurich
LOCATION:
SUMMARY:Chiller Tage
DESCRIPTION:Yogamitmaja Für Frauen und Männer\,  Jung und Alt Die Yogastunden wirken beruhigend und stärkend\,  können fordernd sein und sorgen für mehr Wohlbefinden. Eine Mischung aus Flow und Hatha (inspiriert von Poweryoga nach Brian Kest) hilft\,  Verspannungen zu lösen und den Körper zu kräftigen. Programm Sonntag\,  31- Mai 2026 14.00 Uhr[..]\nhttps://kurhausberguen.ch/events/chiller-tage?lang=en
URL:https://kurhausberguen.ch/events/chiller-tage?lang=en
END:VEVENT
END:VCALENDAR