BEGIN:VCALENDAR
VERSION:2.0
PRODID:-//eventon.com NONSGML v1.0//EN
CALSCALE:GREGORIAN
METHOD:PUBLISH
BEGIN:VEVENT
UID:69e5b87d2aa99
DTSTAMP:20260420T072413
DTSTART:20261025T150000Z
DTEND:20261030T110000Z
TZID:UTC
LOCATION:
SUMMARY:Tangoferien in Bergün
DESCRIPTION:&nbsp; Sie möchten in unserem wunderbaren Saal Tango tanzen? Sie möchten Tango lernen oder Ihr Können darin verbessern? Der Argentinier Rafael Herbas und seine Frau Lea Graber unterrichten den authentischen Tango Argentino bei uns. Für sie steht die Eleganz\,  Musik und Freude an diesem Tanz im Vordergrund. Der Kurs ist[..]\nhttps://kurhausberguen.ch/events/tangoferien-26?lang=en
URL:https://kurhausberguen.ch/events/tangoferien-26?lang=en
END:VEVENT
END:VCALENDAR