BEGIN:VCALENDAR
VERSION:2.0
PRODID:-//eventon.com NONSGML v1.0//EN
CALSCALE:GREGORIAN
METHOD:PUBLISH
BEGIN:VEVENT
UID:69e5b849bd015
DTSTAMP:20260420T072321
DTSTART:20260924T183000Z
DTEND:20260927T120000Z
TZID:Europe/Zurich
LOCATION:
SUMMARY:Yoga Retreat in Bergün
DESCRIPTION:Tue dir etwas Gutes und gönn dir ein wohltuendes Wochenende in den Bündner Bergen mit Irina Schumacher. Wir starten mit Meditation und Yoga in den Tag\,  stärken uns mit einem feinen Frühstück und verbringen  den Tag in der kraftvollen Natur. Nach dem Nachtessen machen wir eine entspannende innere Reise für[..]\nhttps://kurhausberguen.ch/events/yoga-retreat-26-09?lang=en
URL:https://kurhausberguen.ch/events/yoga-retreat-26-09?lang=en
END:VEVENT
END:VCALENDAR