BEGIN:VCALENDAR
VERSION:2.0
PRODID:-//eventon.com NONSGML v1.0//EN
CALSCALE:GREGORIAN
METHOD:PUBLISH
BEGIN:VEVENT
UID:69e5b814db743
DTSTAMP:20260420T072228
DTSTART:20260913T150000Z
DTEND:20260915T110000Z
TZID:Europe/Zurich
LOCATION:
SUMMARY:Yoga-Auszeit Herbst in Bergün mit Claudia Schmid
DESCRIPTION:Geniesse eine Auszeit mit Yoga\,  Wandern\,  Baden und Saunieren umgeben von wunderschöner Bergwelt im Kurhaus Bergün. Während drei Tagen wird in die Yogapraxis eingetaucht und Körper und Geist in Balance gebracht. Das Yoga-Programm besteht aus kräftigendem Hatha Flow\,  regenerierendem Restorative Yoga und entspannendem Yoga Nidra. Schenk dir Zeit für dich[..]\nhttps://kurhausberguen.ch/events/yoga-herbst-26?lang=en
URL:https://kurhausberguen.ch/events/yoga-herbst-26?lang=en
END:VEVENT
END:VCALENDAR