BEGIN:VCALENDAR
VERSION:2.0
PRODID:-//eventon.com NONSGML v1.0//EN
CALSCALE:GREGORIAN
METHOD:PUBLISH
BEGIN:VEVENT
UID:69eb7be52a211
DTSTAMP:20260424T161917
DTSTART:20260918T160000Z
DTEND:20260920T120000Z
TZID:Europe/Zurich
LOCATION:
SUMMARY:Kultur-Wochenende: «Mutig sein»
DESCRIPTION:Eveline Widmer-Schlumpf Samira Marti Vera Kappeler &amp; Peter Coradin Zumthor &nbsp; Programm Freitag Ankunft in Bergün Abend Apéro &amp; Bergrüssung Anschliessend gemeinsames Abendessen Samstag Morgen 2001 bildet sich die IG Kurhaus Bergün mit der Absicht\,  das derweil marode Hotel zu erwerben. Auf abenteuerlichen Wegen und mit viel Mut Risikobereitschaft gelingt[..]\nhttps://kurhausberguen.ch/events/kw-03-26?lang=en
URL:https://kurhausberguen.ch/events/kw-03-26?lang=en
END:VEVENT
END:VCALENDAR