BEGIN:VCALENDAR
VERSION:2.0
PRODID:-//eventon.com NONSGML v1.0//EN
CALSCALE:GREGORIAN
METHOD:PUBLISH
BEGIN:VEVENT
UID:69eb552e74e6d
DTSTAMP:20260424T133406
DTSTART:20261014T170000Z
DTEND:20261014T235900Z
TZID:UTC
LOCATION:
SUMMARY:Kleiböhmer & Grossmann: «Von Bach bis Boccherini»
DESCRIPTION:Barocke Duelle – Ein Spiel der Klänge Wenn Cello und Barockgitarre aufeinandertreffen\,  wer begleitet wen? Oder ist es ein musikalisches Duell? Robert Grossmann (Barockgitarre &amp; Theorbe) und Mathias Kleiböhmer (Barockcello) erforschen die Feinheiten des Zusammenspiels – virtuos\,  lebendig und mit klanglicher Raffinesse. Von Bachs kontrapunktischem Meisterwerk bis zu solistischen Suiten:[..]\nhttps://kurhausberguen.ch/events/kleiboehmer-grossmann
URL:https://kurhausberguen.ch/events/kleiboehmer-grossmann
END:VEVENT
END:VCALENDAR